BEGIN:VCALENDAR
VERSION:2.0
PRODID:SFPL Web Calendar
BEGIN:VEVENT
UID:58961@sfpl.org
DTSTAMP:20230506T221500Z
DTSTART:20230506T221500Z
DTEND:20230506T230000Z
SUMMARY:Performance: San Francisco Guzheng Music Society
DESCRIPTION:<p>Listen to the music of guzheng, an ancient Chinese stringed instrument dating back 2500 years. Formed in 1982, the San Francisco Guzheng Music Society, promotes and shares the rich Chinese heritage through traditional, classical, folk and contemporary music through the guzheng instrument to the San Francisco Bay Area.</p>
LOCATION:Golden Gate Valley - Golden Gate Valley Meeting Room
CLASS:PUBLIC
TRANSP:TRANSPARENT
END:VEVENT
BEGIN:VALARM
TRIGGER:-PT1440M
ACTION:DISPLAY
DESCRIPTION:Event Reminder - Performance: San Francisco Guzheng Music Society
END:VALARM
END:VCALENDAR