BEGIN:VCALENDAR
VERSION:2.0
PRODID:SFPL Web Calendar
BEGIN:VEVENT
UID:58982@sfpl.org
DTSTAMP:20230504T220000Z
DTSTART:20230504T220000Z
DTEND:20230504T230000Z
SUMMARY:Workshop: Pressed Floral Lantern and Bookmark
DESCRIPTION:<p>&nbsp;Make a beautiful pressed flower lantern to brighten your night, create a colorful and cheerful dried flower bookmark to&nbsp;mark&nbsp;the pages of your favorite&nbsp;book.</p>
LOCATION:Bayview/Linda Brooks-Burton - Bayview Meeting Room
CLASS:PUBLIC
TRANSP:TRANSPARENT
END:VEVENT
BEGIN:VALARM
TRIGGER:-PT1440M
ACTION:DISPLAY
DESCRIPTION:Event Reminder - Workshop: Pressed Floral Lantern and Bookmark
END:VALARM
END:VCALENDAR