BEGIN:VCALENDAR
VERSION:2.0
PRODID:SFPL Web Calendar
BEGIN:VEVENT
UID:59004@sfpl.org
DTSTAMP:20230518T223000Z
DTSTART:20230518T223000Z
DTEND:20230519T003000Z
SUMMARY:Film: Turning Red
DESCRIPTION:<p>Mei Lee, a confident, dorky 13-year-old torn between staying her mother&rsquo;s dutiful daughter and the chaos of adolescence. And as if changes to her interests, relationships and body weren&rsquo;t enough, whenever she gets too excited (which is practically ALWAYS), she &ldquo;poofs&rdquo; into a giant red panda!</p>

<p>PG, 110&nbsp;mins., 2022. Closed captions (CC) in English.&nbsp;</p>
LOCATION:Ocean View - Ocean View Meeting Room
CLASS:PUBLIC
TRANSP:TRANSPARENT
END:VEVENT
BEGIN:VALARM
TRIGGER:-PT1440M
ACTION:DISPLAY
DESCRIPTION:Event Reminder - Film: Turning Red
END:VALARM
END:VCALENDAR