BEGIN:VCALENDAR
VERSION:2.0
PRODID:SFPL Web Calendar
BEGIN:VEVENT
UID:59156@sfpl.org
DTSTAMP:20230624T220000Z
DTSTART:20230624T220000Z
DTEND:20230625T000000Z
SUMMARY:Workshop: Mandarin for Beginners
DESCRIPTION:<p>Learn basic Mandarin and Chinese culture.&nbsp;Registration is required. Please call: 415-355-2848.</p>

<p>There will be six sessions: June 10, June 17, June 24, July 1, July 8&nbsp;and July 15&nbsp;from 3:00 p.m. to 5:00 p.m.</p>

<p>For age 15 and older.</p>

<p>在每堂課中，我們會學習基本的國語。請致電&nbsp;415-355-2848&nbsp;報名。</p>

<p>由專業導師授課。整個課程有六節課：在 6/10, 6/17, 6/24, 7/1, 7/8, 7/15 下午 3:00 至 5:00。</p>

<p>歡迎十五歲或以上人士參加。</p>

<p>This program is provided by a partnership with the <a href="https://www.taiwanembassy.org/ussfo_en/index.html">Education Division of the Taipei Economic and Cultural Office in San Francisco</a>, Taiwan Center for Mandarin Learning, Chinese Cultural Learning Center&nbsp;and Visitacion Valley Branch Library.&nbsp;</p>

<p>本課程由駐三藩市台北經濟文化辦事處教育組, 北加中華文化學習中心及三藩市公立圖書館訪谷區分館合作提供。</p>

<p>&nbsp;</p>
LOCATION:Visitacion Valley - Visitacion Valley Meeting Room
CLASS:PUBLIC
TRANSP:TRANSPARENT
END:VEVENT
BEGIN:VALARM
TRIGGER:-PT1440M
ACTION:DISPLAY
DESCRIPTION:Event Reminder - Workshop: Mandarin for Beginners
END:VALARM
END:VCALENDAR