BEGIN:VCALENDAR
VERSION:2.0
PRODID:SFPL Web Calendar
BEGIN:VEVENT
UID:59292@sfpl.org
DTSTAMP:20230520T180000Z
DTSTART:20230520T180000Z
DTEND:20230520T184500Z
SUMMARY:Presentation: Kathak Dance with SF Kala Kendra
DESCRIPTION:<p>Learn about Kathak dance, one of the eight major forms of Indian classical dance. Participate and learn a few moves from this centuries-old North Indian art form.</p>

<p>&nbsp;</p>

<p>Connect:&nbsp;</p>

<p><a href="http://www.sfkalakendra.com/">SF Kala Kendra - Website</a></p>
LOCATION:Parkside - Parkside Children's Area
CLASS:PUBLIC
TRANSP:TRANSPARENT
END:VEVENT
BEGIN:VALARM
TRIGGER:-PT1440M
ACTION:DISPLAY
DESCRIPTION:Event Reminder - Presentation: Kathak Dance with SF Kala Kendra
END:VALARM
END:VCALENDAR