BEGIN:VCALENDAR
VERSION:2.0
PRODID:SFPL Web Calendar
BEGIN:VEVENT
UID:59361@sfpl.org
DTSTAMP:20230501T230000Z
DTSTART:20230501T230000Z
DTEND:20230502T000000Z
SUMMARY:Book Club: Claire Keegan's Small Things Like These
DESCRIPTION:<p>Claire Keegan's&nbsp;<em><a href="https://sfpl.bibliocommons.com/v2/record/S93C4977376">Small Things Like These</a>&nbsp;</em>is a deeply affecting story of hope, quiet heroism&nbsp;and empathy set in a small Irish town during 1985. Bill, a coal merchant and family man, makes a discovery which forces him to confront both his past and the complicit silences of a town controlled by the church.&nbsp;</p>

<p>Contact Dennis Sides at d.sides@att.net for the Zoom link to this Virtual Book Club, questions about the program or help registering. Group meets on the 1st Monday of the month with a new title to discuss each month.</p>
LOCATION:Virtual Library
CLASS:PUBLIC
TRANSP:TRANSPARENT
END:VEVENT
BEGIN:VALARM
TRIGGER:-PT1440M
ACTION:DISPLAY
DESCRIPTION:Event Reminder - Book Club: Claire Keegan's Small Things Like These
END:VALARM
END:VCALENDAR