BEGIN:VCALENDAR
VERSION:2.0
PRODID:SFPL Web Calendar
BEGIN:VEVENT
UID:59379@sfpl.org
DTSTAMP:20230513T210000Z
DTSTART:20230513T210000Z
DTEND:20230513T220000Z
SUMMARY:Presentation: Kathak Dance with SF Kala Kendra
DESCRIPTION:<p>Learn about Kathak dance, one of the eight major forms of Indian classical dance. Participate and learn a few moves from this centuries-old North Indian art form.</p>

<p>Connect:&nbsp;<a href="http://www.sfkalakendra.com/">SF Kala Kendra</a></p>
LOCATION:West Portal - West Portal Front Courtyard
CLASS:PUBLIC
TRANSP:TRANSPARENT
END:VEVENT
BEGIN:VALARM
TRIGGER:-PT1440M
ACTION:DISPLAY
DESCRIPTION:Event Reminder - Presentation: Kathak Dance with SF Kala Kendra
END:VALARM
END:VCALENDAR