BEGIN:VCALENDAR
VERSION:2.0
PRODID:SFPL Web Calendar
BEGIN:VEVENT
UID:59400@sfpl.org
DTSTAMP:20230511T010000Z
DTSTART:20230511T010000Z
DTEND:20230511T023000Z
SUMMARY:Workshop: Mobile App Design
DESCRIPTION:<p>Level up your design skills and bring your app or website idea to life in this interactive workshop. Registration recommended but not required.&nbsp;</p>

<p>&nbsp;</p>
LOCATION:Main Library - Learning Studio - 5th Fl
CLASS:PUBLIC
TRANSP:TRANSPARENT
END:VEVENT
BEGIN:VALARM
TRIGGER:-PT1440M
ACTION:DISPLAY
DESCRIPTION:Event Reminder - Workshop: Mobile App Design
END:VALARM
END:VCALENDAR