BEGIN:VCALENDAR
VERSION:2.0
PRODID:SFPL Web Calendar
BEGIN:VEVENT
UID:59640@sfpl.org
DTSTAMP:20230511T190000Z
DTSTART:20230511T190000Z
DTEND:20230511T200000Z
SUMMARY:Performance: Japanese Taiko Drumming
DESCRIPTION:<p>Feel the thunderous sounds of taiko drums as Kristy Oshiro combines Japanese language, culture and history into an exciting experience.&nbsp;</p>

<p>Connect:&nbsp;</p>

<p><a href="https://kristyoshiro.com/">Kristy Oshiro - Website</a>&nbsp;</p>
LOCATION:Eureka Valley/Harvey Milk Memorial - Eureka Valley Back Courtyard
CLASS:PUBLIC
TRANSP:TRANSPARENT
END:VEVENT
BEGIN:VALARM
TRIGGER:-PT1440M
ACTION:DISPLAY
DESCRIPTION:Event Reminder - Performance: Japanese Taiko Drumming
END:VALARM
END:VCALENDAR