BEGIN:VCALENDAR
VERSION:2.0
PRODID:SFPL Web Calendar
BEGIN:VEVENT
UID:59742@sfpl.org
DTSTAMP:20230510T223000Z
DTSTART:20230510T223000Z
DTEND:20230510T233000Z
SUMMARY:Social: Asian Snack Trials
DESCRIPTION:<p>Celebrate AANHPI Heritage Month.&nbsp;Explore snacks to try from different parts of Asia.</p>

<p>For ages 10-18.</p>
LOCATION:Sunset - Sunset Program Room
CLASS:PUBLIC
TRANSP:TRANSPARENT
END:VEVENT
BEGIN:VALARM
TRIGGER:-PT1440M
ACTION:DISPLAY
DESCRIPTION:Event Reminder - Social: Asian Snack Trials
END:VALARM
END:VCALENDAR