BEGIN:VCALENDAR
VERSION:2.0
PRODID:SFPL Web Calendar
BEGIN:VEVENT
UID:59747@sfpl.org
DTSTAMP:20230520T220000Z
DTSTART:20230520T220000Z
DTEND:20230520T233000Z
SUMMARY:Workshop: Chinese Tea Eggs
DESCRIPTION:<p>Learn how to make Chinese tea eggs.&nbsp;Space limited. Reservation required: (415) 355-5600 or sign up at the reference desk.</p>

<p>&nbsp;</p>

<pre>
學習如何製作中國茶葉蛋。位置有限。需要預約：(415)355-5600 或在諮詢台註冊。</pre>
LOCATION:Richmond/Senator Milton Marks - Richmond Meeting Room
CLASS:PUBLIC
TRANSP:TRANSPARENT
END:VEVENT
BEGIN:VALARM
TRIGGER:-PT1440M
ACTION:DISPLAY
DESCRIPTION:Event Reminder - Workshop: Chinese Tea Eggs
END:VALARM
END:VCALENDAR