BEGIN:VCALENDAR
VERSION:2.0
PRODID:SFPL Web Calendar
BEGIN:VEVENT
UID:59777@sfpl.org
DTSTAMP:20230723T210000Z
DTSTART:20230723T210000Z
DTEND:20230723T220000Z
SUMMARY:Workshop: FIMO Clay Cuties with Dana Fong
DESCRIPTION:<p>Learn&nbsp;how to make unique FIMO&nbsp;clay cuties.&nbsp;Create one-of-a-kind creatures and objects such as a piglet, owl, turtle and much more!&nbsp;Materials provided. For ages 5 and older.</p>

<p>Dana has been an instructor for the past 10 years, teaching various workshops specializing in succulent terrariums, watercolor, card making, FIMO&nbsp;clay, and more. She is also a graphic designer, face painter and artist located in the Bay Area.&nbsp;</p>

<p>Connect: <a href="http://www.danafong.com/">Dana Fong - Website</a>&nbsp;|&nbsp;<a href="https://danafongdesigns.weebly.com/">Dana Fong&nbsp;- Graphic Design Website</a></p>

<p>Space limited. Reservations required: (415) 355-5615.</p>
LOCATION:Ocean View - Ocean View Meeting Room
CLASS:PUBLIC
TRANSP:TRANSPARENT
END:VEVENT
BEGIN:VALARM
TRIGGER:-PT1440M
ACTION:DISPLAY
DESCRIPTION:Event Reminder - Workshop: FIMO Clay Cuties with Dana Fong
END:VALARM
END:VCALENDAR