BEGIN:VCALENDAR
VERSION:2.0
PRODID:SFPL Web Calendar
BEGIN:VEVENT
UID:59970@sfpl.org
DTSTAMP:20230506T210000Z
DTSTART:20230506T210000Z
DTEND:20230506T233000Z
SUMMARY:Workshop: Sugar Cookie Coasters
DESCRIPTION:<p>Learn how to crochet delicious looking frosted&nbsp;flower&nbsp;sugar cookies that not only tickle the taste buds but also serve as coasters.&nbsp;Space limited. Reservations required: (415) 355-2898.<br />
​</p>
LOCATION:Ingleside - Ingleside Meeting Room
CLASS:PUBLIC
TRANSP:TRANSPARENT
END:VEVENT
BEGIN:VALARM
TRIGGER:-PT1440M
ACTION:DISPLAY
DESCRIPTION:Event Reminder - Workshop: Sugar Cookie Coasters
END:VALARM
END:VCALENDAR