BEGIN:VCALENDAR
VERSION:2.0
PRODID:SFPL Web Calendar
BEGIN:VEVENT
UID:60006@sfpl.org
DTSTAMP:20230729T200000Z
DTSTART:20230729T200000Z
DTEND:20230729T220000Z
SUMMARY:Activity: YELL Presents Creative Crafters 青少年暑期領導力計畫展示: 創意手工藝者
DESCRIPTION:<p>Our Youth Engaged in Library Leadership (YELL) interns have been working hard all summer to prepare a surprise community event. Come and support your local high school teens.</p>

<p>Time to get creative! Make crafts, win prizes, and have fun! For ages 8&ndash;18. Please call for registration, Tel: (415)355-2888.</p>

<p>我們的青少年暑期領導力計畫(YELL)實習生整個暑假都在努力準備一場驚喜的社區活動, 請來支持本地的高中青少年.</p>

<p>正是發揮創意的時刻. 製作手工藝. 贏取獎品.玩得開心. 年齡為八歲至十八歲. 請以電話報名, TEL: (415)355-2888.</p>
LOCATION:Chinatown/Him Mark Lai - Chinatown Meeting Room
CLASS:PUBLIC
TRANSP:TRANSPARENT
END:VEVENT
BEGIN:VALARM
TRIGGER:-PT1440M
ACTION:DISPLAY
DESCRIPTION:Event Reminder - Activity: YELL Presents Creative Crafters 青少年暑期領導力計畫展示: 創意手工藝者
END:VALARM
END:VCALENDAR