BEGIN:VCALENDAR
VERSION:2.0
PRODID:SFPL Web Calendar
BEGIN:VEVENT
UID:60206@sfpl.org
DTSTAMP:20230522T220000Z
DTSTART:20230522T220000Z
DTEND:20230522T230000Z
SUMMARY:Presentation: Storytelling with Clara Kamunde
DESCRIPTION:<p>Listen to the storytelling of Clara Kamunde as she shares a tale called "Call Me Miss: The Defiance of Mary Hamilton, Freedom Rider". Hamilton was a veteran of the Civil Rights Movement. While Hamilton's story is lesser known, it is an important milestone in the journey towards the Civil Rights Act.&nbsp;For children and their families.</p>
LOCATION:Portola - Portola Meeting Room
CLASS:PUBLIC
TRANSP:TRANSPARENT
END:VEVENT
BEGIN:VALARM
TRIGGER:-PT1440M
ACTION:DISPLAY
DESCRIPTION:Event Reminder - Presentation: Storytelling with Clara Kamunde
END:VALARM
END:VCALENDAR