BEGIN:VCALENDAR
VERSION:2.0
PRODID:SFPL Web Calendar
BEGIN:VEVENT
UID:60220@sfpl.org
DTSTAMP:20230507T230000Z
DTSTART:20230507T230000Z
DTEND:20230508T003000Z
SUMMARY:Tutorial: Beginner's Computer Clinic
DESCRIPTION:<p>Practice common computer dance steps like clicking, highlighting, copying, pasting, uploading and downloading. No experience necessary.&nbsp;</p>

<p>This event is part of <a href="https://sfpl.org/locations/main-library/bridge-main-5th-floor/welcome-tech-week">SF Tech Week</a>.&nbsp;</p>
LOCATION:Main Library - Computer Training Center - 5th Fl
CLASS:PUBLIC
TRANSP:TRANSPARENT
END:VEVENT
BEGIN:VALARM
TRIGGER:-PT1440M
ACTION:DISPLAY
DESCRIPTION:Event Reminder - Tutorial: Beginner's Computer Clinic
END:VALARM
END:VCALENDAR