BEGIN:VCALENDAR
VERSION:2.0
PRODID:SFPL Web Calendar
BEGIN:VEVENT
UID:60361@sfpl.org
DTSTAMP:20230509T180000Z
DTSTART:20230509T180000Z
DTEND:20230509T193000Z
SUMMARY:Presentation: Learn to Use Canva
DESCRIPTION:<p>Canva is a free online tool that can design flyers, cards, teaching materials and more. Register at the button above or email info@sfcommunityliving.org.&nbsp;</p>

<p>This event is part of <a href="https://sfpl.org/locations/main-library/bridge-main-5th-floor/welcome-tech-week">SF Tech Week</a>.&nbsp;</p>

<p>Connect: Community Living Campaign&nbsp;<a href="https://sfcommunityliving.org/">website</a>&nbsp;|&nbsp;<a href="https://www.facebook.com/CommunityLivingCampaign/">Facebook</a>&nbsp;|&nbsp;<a href="https://twitter.com/CLCtweets">Twitter</a></p>
LOCATION:Virtual Library
CLASS:PUBLIC
TRANSP:TRANSPARENT
END:VEVENT
BEGIN:VALARM
TRIGGER:-PT1440M
ACTION:DISPLAY
DESCRIPTION:Event Reminder - Presentation: Learn to Use Canva
END:VALARM
END:VCALENDAR