BEGIN:VCALENDAR
VERSION:2.0
PRODID:SFPL Web Calendar
BEGIN:VEVENT
UID:60387@sfpl.org
DTSTAMP:20230510T183000Z
DTSTART:20230510T183000Z
DTEND:20230510T193000Z
SUMMARY:Presentation: Is Your Smartphone or Tablet Ready to Help in an Emergency?
DESCRIPTION:<p>Learn how your smartphone or tablet can help you in the case of an earthquake, fire or any other kind of emergency.</p>

<p>This event is part of&nbsp;<a href="https://sfpl.org/locations/main-library/bridge-main-5th-floor/welcome-tech-week">SF Tech Week</a>.&nbsp;</p>

<p>Connect: Community Living Campaign&nbsp;<a href="https://sfcommunityliving.org/">website</a>&nbsp;|&nbsp;<a href="https://www.facebook.com/CommunityLivingCampaign/">Facebook</a>&nbsp;|&nbsp;<a href="https://twitter.com/CLCtweets">Twitter</a></p>

<p>&nbsp;</p>
LOCATION:Virtual Library
CLASS:PUBLIC
TRANSP:TRANSPARENT
END:VEVENT
BEGIN:VALARM
TRIGGER:-PT1440M
ACTION:DISPLAY
DESCRIPTION:Event Reminder - Presentation: Is Your Smartphone or Tablet Ready to Help in an Emergency?
END:VALARM
END:VCALENDAR