BEGIN:VCALENDAR
VERSION:2.0
PRODID:SFPL Web Calendar
BEGIN:VEVENT
UID:60597@sfpl.org
DTSTAMP:20230625T210000Z
DTSTART:20230625T210000Z
DTEND:20230625T224500Z
SUMMARY:Film: Mad Hot Ballroom
DESCRIPTION:<p>Pre-teens throughout&nbsp;New York City public schools learn ballroom dancing. Movie goers will find themselves rooting aloud during the dance competition. Cha cha cha.&nbsp;Space limited.&nbsp;</p>

<p>&nbsp;</p>

<p>Director: Marilyn Agrelo</p>

<p>Actors: Heather Berman, Emma Therese Biegacki, Eva Carrozza</p>

<p>G, 105 min., 2005.&nbsp;Closed captions (CC) in English.</p>

<p>&nbsp;</p>
LOCATION:Potrero - Potrero Meeting Room
CLASS:PUBLIC
TRANSP:TRANSPARENT
END:VEVENT
BEGIN:VALARM
TRIGGER:-PT1440M
ACTION:DISPLAY
DESCRIPTION:Event Reminder - Film: Mad Hot Ballroom
END:VALARM
END:VCALENDAR