BEGIN:VCALENDAR
VERSION:2.0
PRODID:SFPL Web Calendar
BEGIN:VEVENT
UID:60804@sfpl.org
DTSTAMP:20230513T180000Z
DTSTART:20230513T180000Z
DTEND:20230513T190000Z
SUMMARY:Workshop: Everyday Accessibility: Built–in Tools that Benefit Everyone
DESCRIPTION:<p>Explore some of the features and settings you already hold in your hand, which can help you comprehend spoken and written content, write&nbsp;and&nbsp;translate into multiple languages.&nbsp;We will address Chromebooks/Google Suite, laptops, iPhones&nbsp;and Androids. Please bring the device you want to explore during this guided tour.</p>

<p>Masks encouraged. Registration suggested: (415) 557&ndash;4388.</p>

<p>This event is part of <a href="https://sfpl.org/locations/main-library/bridge-main-5th-floor/welcome-tech-week">SF Tech Week</a>.&nbsp;</p>

<p>&nbsp;</p>
LOCATION:Main Library - Learning Studio - 5th Fl
CLASS:PUBLIC
TRANSP:TRANSPARENT
END:VEVENT
BEGIN:VALARM
TRIGGER:-PT1440M
ACTION:DISPLAY
DESCRIPTION:Event Reminder - Workshop: Everyday Accessibility: Built–in Tools that Benefit Everyone
END:VALARM
END:VCALENDAR