BEGIN:VCALENDAR
VERSION:2.0
PRODID:SFPL Web Calendar
BEGIN:VEVENT
UID:60815@sfpl.org
DTSTAMP:20230727T230000Z
DTSTART:20230727T230000Z
DTEND:20230728T003000Z
SUMMARY:CANCELLED: Activity: Adult Monthly Craft
DESCRIPTION:<p>We will make&nbsp;quilled flowers to decorate photo frame.</p>

<p>Space limited. Reservations required: (415) 355-2808 (starting July 1).</p>
LOCATION:Sunset - Sunset Program Room
CLASS:PUBLIC
TRANSP:TRANSPARENT
END:VEVENT
BEGIN:VALARM
TRIGGER:-PT1440M
ACTION:DISPLAY
DESCRIPTION:Event Reminder - CANCELLED: Activity: Adult Monthly Craft
END:VALARM
END:VCALENDAR