BEGIN:VCALENDAR
VERSION:2.0
PRODID:SFPL Web Calendar
BEGIN:VEVENT
UID:60974@sfpl.org
DTSTAMP:20230722T220000Z
DTSTART:20230722T220000Z
DTEND:20230723T000000Z
SUMMARY:Activity: YELL Presents Gardening For All
DESCRIPTION:<p>Come learn more about gardening and&nbsp;have fun at the same time!</p>

<p>Our Youth Engaged in Library Leadership (YELL) interns have been working hard all summer to prepare a surprise community event. Come and support your local high school teens<strong>.</strong></p>
LOCATION:Richmond/Senator Milton Marks - Richmond Meeting Room
CLASS:PUBLIC
TRANSP:TRANSPARENT
END:VEVENT
BEGIN:VALARM
TRIGGER:-PT1440M
ACTION:DISPLAY
DESCRIPTION:Event Reminder - Activity: YELL Presents Gardening For All
END:VALARM
END:VCALENDAR