BEGIN:VCALENDAR
VERSION:2.0
PRODID:SFPL Web Calendar
BEGIN:VEVENT
UID:61011@sfpl.org
DTSTAMP:20230520T173000Z
DTSTART:20230520T173000Z
DTEND:20230520T203000Z
SUMMARY:Services: Dental Health Fair
DESCRIPTION:<p>Join UCSF health professionals who can help you get the information you need regarding your and your child's teeth, as well as point you to local resources. Also, get a free dental goodie bag!</p>
LOCATION:Western Addition - Western Addition Back Courtyard
CLASS:PUBLIC
TRANSP:TRANSPARENT
END:VEVENT
BEGIN:VALARM
TRIGGER:-PT1440M
ACTION:DISPLAY
DESCRIPTION:Event Reminder - Services: Dental Health Fair
END:VALARM
END:VCALENDAR