BEGIN:VCALENDAR
VERSION:2.0
PRODID:SFPL Web Calendar
BEGIN:VEVENT
UID:61060@sfpl.org
DTSTAMP:20250309T210000Z
DTSTART:20250309T210000Z
DTEND:20250309T220000Z
SUMMARY:Workshop: Second Sunday Crafternoon, Make Tiny Art
DESCRIPTION:<p>Learn to create tiny art to display in West Portal’s 3rd annual Tiny Art Show.</p>
LOCATION:West Portal - West Portal Children's Area
CLASS:PUBLIC
TRANSP:TRANSPARENT
END:VEVENT
BEGIN:VALARM
TRIGGER:-PT1440M
ACTION:DISPLAY
DESCRIPTION:Event Reminder - Workshop: Second Sunday Crafternoon, Make Tiny Art
END:VALARM
END:VCALENDAR