BEGIN:VCALENDAR
VERSION:2.0
PRODID:SFPL Web Calendar
BEGIN:VEVENT
UID:61252@sfpl.org
DTSTAMP:20230726T200000Z
DTSTART:20230726T200000Z
DTEND:20230726T220000Z
SUMMARY:Activity: YELL Presents Tower Fair, Feria de las torres
DESCRIPTION:<p>Join us at the tower fair!&nbsp;Come for STEM and building activities.</p>

<p>Teens from Youth Engaged in Library Leadership provide this program for the community.</p>

<p>&nbsp;</p>

<p>Ven a la feria de las torres.&nbsp;Participa en actividades STEM y de construcci&oacute;n.</p>

<p>Adolescentes de J&oacute;venes Involucrados en Liderazgo en Bibliotecas brindan este programa a la comunidad.</p>
LOCATION:Bayview/Linda Brooks-Burton - Bayview General Floor Area
CLASS:PUBLIC
TRANSP:TRANSPARENT
END:VEVENT
BEGIN:VALARM
TRIGGER:-PT1440M
ACTION:DISPLAY
DESCRIPTION:Event Reminder - Activity: YELL Presents Tower Fair, Feria de las torres
END:VALARM
END:VCALENDAR