BEGIN:VCALENDAR
VERSION:2.0
PRODID:SFPL Web Calendar
BEGIN:VEVENT
UID:61254@sfpl.org
DTSTAMP:20230725T210000Z
DTSTART:20230725T210000Z
DTEND:20230725T230000Z
SUMMARY:Workshop: Tie-Dye Shirts
DESCRIPTION:<p>Experiment with tie-dye and add a&nbsp;bit of color&nbsp;to your wardrobe. Limit one dye per person, bring your own t-shirt or one will be provided (while supplies last).&nbsp;Families with children will be prioritized.&nbsp;</p>

<p>Space limited. Check-in at the front desk at the beginning of the program to sign-up for a&nbsp;time slot.&nbsp;</p>
LOCATION:Bayview/Linda Brooks-Burton - Bayview Meeting Room
CLASS:PUBLIC
TRANSP:TRANSPARENT
END:VEVENT
BEGIN:VALARM
TRIGGER:-PT1440M
ACTION:DISPLAY
DESCRIPTION:Event Reminder - Workshop: Tie-Dye Shirts
END:VALARM
END:VCALENDAR