BEGIN:VCALENDAR
VERSION:2.0
PRODID:SFPL Web Calendar
BEGIN:VEVENT
UID:61606@sfpl.org
DTSTAMP:20230625T210000Z
DTSTART:20230625T210000Z
DTEND:20230625T220000Z
SUMMARY:Book Club: For 4th and 5th graders, Jason Reynolds' Stuntboy, in the Meantime
DESCRIPTION:<p>Discussing Jason Reynolds' <a href="https://sfpl.bibliocommons.com/v2/record/S93C4965343">Stuntboy, in the Meantime</a>, about the greatest young superhero you&rsquo;ve never heard of. For ages 9-12.</p>
LOCATION:Merced - Merced General Floor Area
CLASS:PUBLIC
TRANSP:TRANSPARENT
END:VEVENT
BEGIN:VALARM
TRIGGER:-PT1440M
ACTION:DISPLAY
DESCRIPTION:Event Reminder - Book Club: For 4th and 5th graders, Jason Reynolds' Stuntboy, in the Meantime
END:VALARM
END:VCALENDAR