BEGIN:VCALENDAR
VERSION:2.0
PRODID:SFPL Web Calendar
BEGIN:VEVENT
UID:62166@sfpl.org
DTSTAMP:20230519T230000Z
DTSTART:20230519T230000Z
DTEND:20230520T000000Z
SUMMARY:Activity: Therapy Pets
DESCRIPTION:<p>Come meet our&nbsp;therapy pet provided by the SFSPCA&nbsp;that helps provide comfort and relieve&nbsp;stress.&nbsp;&nbsp;</p>
LOCATION:Excelsior - Excelsior Meeting Room
CLASS:PUBLIC
TRANSP:TRANSPARENT
END:VEVENT
BEGIN:VALARM
TRIGGER:-PT1440M
ACTION:DISPLAY
DESCRIPTION:Event Reminder - Activity: Therapy Pets
END:VALARM
END:VCALENDAR