BEGIN:VCALENDAR
VERSION:2.0
PRODID:SFPL Web Calendar
BEGIN:VEVENT
UID:62174@sfpl.org
DTSTAMP:20230511T190000Z
DTSTART:20230511T190000Z
DTEND:20230511T200000Z
SUMMARY:Services: Assessor in the Neighborhood
DESCRIPTION:<p>Meet with Assessor Torres one-on-one to discuss how Prop 19 has affected you, property taxes&nbsp;and family financial resiliency.</p>

<p>Connect:&nbsp;</p>

<p><a href="https://sfassessor.org/">Office of the Assessor - Website</a></p>

<p>&nbsp;</p>
LOCATION:Eureka Valley/Harvey Milk Memorial - Eureka Valley General Floor Area
CLASS:PUBLIC
TRANSP:TRANSPARENT
END:VEVENT
BEGIN:VALARM
TRIGGER:-PT1440M
ACTION:DISPLAY
DESCRIPTION:Event Reminder - Services: Assessor in the Neighborhood
END:VALARM
END:VCALENDAR