BEGIN:VCALENDAR
VERSION:2.0
PRODID:SFPL Web Calendar
BEGIN:VEVENT
UID:62705@sfpl.org
DTSTAMP:20230726T230000Z
DTSTART:20230726T230000Z
DTEND:20230727T000000Z
SUMMARY:Social: Snack Trials
DESCRIPTION:<p>Taste different yogurts and pick your favorite. For ages 12-18.</p>
LOCATION:Main Library - Mix: Discovery Zone - 2nd Fl
CLASS:PUBLIC
TRANSP:TRANSPARENT
END:VEVENT
BEGIN:VALARM
TRIGGER:-PT1440M
ACTION:DISPLAY
DESCRIPTION:Event Reminder - Social: Snack Trials
END:VALARM
END:VCALENDAR