BEGIN:VCALENDAR
VERSION:2.0
PRODID:SFPL Web Calendar
BEGIN:VEVENT
UID:64027@sfpl.org
DTSTAMP:20231217T233000Z
DTSTART:20231217T233000Z
DTEND:20231218T003000Z
SUMMARY:Book Club: Mysteries at Milk Memorial
DESCRIPTION:<p>If you enjoy a good whodunit, spend an hour hashing out the details of this month&rsquo;s mystery novel. Set in 1936,&nbsp;<a href="https://sfpl.bibliocommons.com/v2/record/S93C5330748"><em>Miss Aldridge Regrets</em></a> is a locked-room mystery that begins in a London nightclub&nbsp;and moves on to an ocean liner headed for&nbsp;New York.</p>

<p><strong>This is a hybrid event. Registration is required for Zoom attendance. In-person attendance does not require registration.</strong></p>
LOCATION:Eureka Valley/Harvey Milk Memorial - Eureka Valley General Floor Area
CLASS:PUBLIC
TRANSP:TRANSPARENT
END:VEVENT
BEGIN:VALARM
TRIGGER:-PT1440M
ACTION:DISPLAY
DESCRIPTION:Event Reminder - Book Club: Mysteries at Milk Memorial
END:VALARM
END:VCALENDAR