BEGIN:VCALENDAR
VERSION:2.0
PRODID:SFPL Web Calendar
BEGIN:VEVENT
UID:64231@sfpl.org
DTSTAMP:20230724T160000Z
DTSTART:20230724T160000Z
DTEND:20230724T170000Z
SUMMARY:Activity: Tiny Art Submission Deadline
DESCRIPTION:<p>Return your tiny art masterpiece to the Ocean View&nbsp;Branch reference desk to have your art featured in the library's&nbsp;Tiny Art Show in August. The library reserves the right to exclude any works.&nbsp;</p>
LOCATION:Ocean View - Ocean View Meeting Room
CLASS:PUBLIC
TRANSP:TRANSPARENT
END:VEVENT
BEGIN:VALARM
TRIGGER:-PT1440M
ACTION:DISPLAY
DESCRIPTION:Event Reminder - Activity: Tiny Art Submission Deadline
END:VALARM
END:VCALENDAR