BEGIN:VCALENDAR
VERSION:2.0
PRODID:SFPL Web Calendar
BEGIN:VEVENT
UID:64238@sfpl.org
DTSTAMP:20230730T230000Z
DTSTART:20230730T230000Z
DTEND:20230731T000000Z
SUMMARY:Workshop: Play the Kalimba
DESCRIPTION:<p>Hands on play and music making with the Kalimba, an African thumb piano.</p>

<p>Learn about the ethereal, mysterious kalimba, a.k.a. the African thumb piano, with expert Carl Winters.&nbsp; Hear jazz, blues, gospel and R&B played on the kalimba and play it yourself while hearing how the instrument has been used in African cultures.&nbsp;&nbsp;</p>

<p><a href="https://url.avanan.click/v2/___www.kalimbaking.com___.YXAzOnNmZHQyOmE6bzo3YzdjOWNjZTQwZWMzMWU0MGZlNWM5ODljZjIzYzQ4Yjo2Ojc0YmI6OTQ1NGI1ZWIwODg4N2NhMGEzYjRjOTg5OGUwMmNjM2Q0Y2ViZmUyMTg4NDAzNzA0MWFmMTFlMTU0MjkxODRjYzp0OlQ">Carl Winters</a> was born in San Antonio, TX and comes from a musical family. His inspiration to begin playing/studying the Kalimba (African thumb piano) came in the 1970s from Maurice White, founder of Earth, Wind, & Fire. After playing with various jazz groups in Houston, Winters moved to the San Francisco Bay Area and became an elementary school teacher where he incorporated music into the curriculum. For 25 years, his students, known as the &ldquo;Kalimba Kids&rdquo;, performed for the Hayward Unified School District Superintendent & staff, the Mayor of Hayward & staff, churches, TV & Radio stations, restaurants, nursing homes and schools. Winters assists with the Allen Temple Baptist Church Children&rsquo;s Choir. He has performed at the Smithsonian Institution, the Gullah Festival in South Carolina, the Museum of the African Diaspora (MOAD) and various other museums and churches across the country.&nbsp;</p>
LOCATION:Main Library - African American Center Exhibit Space - 3rd Fl
CLASS:PUBLIC
TRANSP:TRANSPARENT
END:VEVENT
BEGIN:VALARM
TRIGGER:-PT1440M
ACTION:DISPLAY
DESCRIPTION:Event Reminder - Workshop: Play the Kalimba
END:VALARM
END:VCALENDAR