BEGIN:VCALENDAR
VERSION:2.0
PRODID:SFPL Web Calendar
BEGIN:VEVENT
UID:64252@sfpl.org
DTSTAMP:20230725T230000Z
DTSTART:20230725T230000Z
DTEND:20230726T003000Z
SUMMARY:Book Club: Visitacion Valley Readers, Louise Erdich's The Night Watchman
DESCRIPTION:<p>We will discuss &nbsp;Louise Erdich's <em><a href="https://sfpl.bibliocommons.com/v2/record/S93C3911523">The Night Watchman</a>.</em> Based on the extraordinary life of National Book Award-winning author Louise Erdrich's grandfather, the main character Thomas Wazhashk is the night watchman at the jewel bearing plant, the first factory located near the Turtle Mountain Reservation in rural North Dakota. He is also a Chippewa Council member who is trying to understand the consequences of a new "emancipation" bill on its way to the floor of the United States Congress. Winner of the 2021 Pulitzer Prize for Fiction.</p>

<p>Copies of the book will be available for checkout at the reference desk. Refreshments provided by Mission Blue Coffee.</p>

<p>&nbsp;</p>

<p>&nbsp;</p>
LOCATION:Visitacion Valley - Visitacion Valley Meeting Room
CLASS:PUBLIC
TRANSP:TRANSPARENT
END:VEVENT
BEGIN:VALARM
TRIGGER:-PT1440M
ACTION:DISPLAY
DESCRIPTION:Event Reminder - Book Club: Visitacion Valley Readers, Louise Erdich's The Night Watchman
END:VALARM
END:VCALENDAR