BEGIN:VCALENDAR
VERSION:2.0
PRODID:SFPL Web Calendar
BEGIN:VEVENT
UID:64954@sfpl.org
DTSTAMP:20231012T010000Z
DTSTART:20231012T010000Z
DTEND:20231012T023000Z
SUMMARY:Panel: Radical Histories of Housing and Community Care
DESCRIPTION:<p>Listen to part one of the Tenderloin Community Quilt panel series, which will&nbsp;explore&nbsp;the history of housing alternatives within the Tenderloin and the legacies of community activism and care that&nbsp;continue today.</p>

<p>&nbsp;</p>

<p>From&nbsp;Fall 2022 to&nbsp;Spring 2023, the &lsquo;We Are Home&rsquo; Quilt Project hosted workshops throughout the Tenderloin. Individuals participated in creating unique quilt square panels to contribute to what will be a greater Tenderloin Community Quilt, which will be completed by Fall 2023. The workshops have engaged Delivering Innovation to Supportive Housing&mdash;San Francisco (DISH SF) permanent supportive housing residents, the Hospitality House Community Arts Program&nbsp;and Tenderloin Museum.</p>

<p>&nbsp;</p>

<p>The &lsquo;We Are Home&rsquo; Quilt Project is focused on amplifying the voices of people who have the lived experience of homelessness, and those that care for or live and work in community with unhoused neighbors.&nbsp;The panel series aims to expand&nbsp;the conversation&nbsp;with extended community and offer an opportunity&nbsp;for meaningful&nbsp;engagement and reflection.</p>

<p>Connect:</p>

<p><a href="https://dishsf.org/">Delivering Innovation in Supportive Housing, San Francisco - Website</a>&nbsp;|&nbsp;<a href="https://www.instagram.com/dishinsf/">Delivering Innovation to Supportive Housing, San Francisco&nbsp;- Instagram</a>&nbsp;</p>
LOCATION:Main Library - Latino/Hispanic Meeting Room A
CLASS:PUBLIC
TRANSP:TRANSPARENT
END:VEVENT
BEGIN:VALARM
TRIGGER:-PT1440M
ACTION:DISPLAY
DESCRIPTION:Event Reminder - Panel: Radical Histories of Housing and Community Care
END:VALARM
END:VCALENDAR