BEGIN:VCALENDAR
VERSION:2.0
PRODID:SFPL Web Calendar
BEGIN:VEVENT
UID:65453@sfpl.org
DTSTAMP:20230727T213000Z
DTSTART:20230727T213000Z
DTEND:20230727T230000Z
SUMMARY:Workshop: LEGO Robots
DESCRIPTION:<p>Learn how to build LEGO robots with Lowell High School students. Recommended for ages 6&ndash;11.</p>

<p>Space limited. Reservations required: (415) 355-5770 or sign up&nbsp;at the Parkside information desk.</p>
LOCATION:Parkside - Parkside Children's Area
CLASS:PUBLIC
TRANSP:TRANSPARENT
END:VEVENT
BEGIN:VALARM
TRIGGER:-PT1440M
ACTION:DISPLAY
DESCRIPTION:Event Reminder - Workshop: LEGO Robots
END:VALARM
END:VCALENDAR