BEGIN:VCALENDAR
VERSION:2.0
PRODID:SFPL Web Calendar
BEGIN:VEVENT
UID:66265@sfpl.org
DTSTAMP:20230625T220000Z
DTSTART:20230625T220000Z
DTEND:20230625T233000Z
SUMMARY:Workshop: Meet a Typer
DESCRIPTION:<p>Learn how to type on a&nbsp;vintage typewriter. Marvel as it prints right onto a&nbsp;fresh sheet of paper as&nbsp;you hit the keys. No batteries required!&nbsp;Machines, paper and correction ribbon will be supplied. Program will be held inside the Teen Room.</p>

<p>&nbsp;</p>

<p>About the presenter: Edward Pollard holds a BA in English with honors from Cal State Los Angeles. He worked in editorial in magazine publishing for 12 years and has&nbsp;taught English as a Second Language classes in Budapest, Hungary for 2 years.&nbsp;He is also&nbsp;fluent in German. Pollard&nbsp;is currently working on his unpublished novel on a 1912 Corona No.3 folding typewriter.<br />
<br />
&nbsp;</p>
LOCATION:North Beach - North Beach General Floor Area
CLASS:PUBLIC
TRANSP:TRANSPARENT
END:VEVENT
BEGIN:VALARM
TRIGGER:-PT1440M
ACTION:DISPLAY
DESCRIPTION:Event Reminder - Workshop: Meet a Typer
END:VALARM
END:VCALENDAR