BEGIN:VCALENDAR
VERSION:2.0
PRODID:SFPL Web Calendar
BEGIN:VEVENT
UID:66442@sfpl.org
DTSTAMP:20231228T000000Z
DTSTART:20231228T000000Z
DTEND:20231228T004500Z
SUMMARY:Book Club: Golden Gate Valley Reading Circle
DESCRIPTION:<p>We will be discussing <em><a href="https://sfpl.bibliocommons.com/v2/record/S93C2445787">The Buddha in the Attic</a></em> by Julie Otsuka. <a href="https://en.wikipedia.org/wiki/The_Buddha_in_the_Attic">Learn more</a> about the book, and please join us.</p>
LOCATION:Golden Gate Valley - Golden Gate Valley Meeting Room
CLASS:PUBLIC
TRANSP:TRANSPARENT
END:VEVENT
BEGIN:VALARM
TRIGGER:-PT1440M
ACTION:DISPLAY
DESCRIPTION:Event Reminder - Book Club: Golden Gate Valley Reading Circle
END:VALARM
END:VCALENDAR