BEGIN:VCALENDAR
VERSION:2.0
PRODID:SFPL Web Calendar
BEGIN:VEVENT
UID:66443@sfpl.org
DTSTAMP:20231220T230000Z
DTSTART:20231220T230000Z
DTEND:20231221T001500Z
SUMMARY:Film: Armored Car Robbery
DESCRIPTION:<p>A robbery at a ballpark by a criminal gang seems to go well, but complications begin to arise after the heist. <em><a href="https://en.wikipedia.org/wiki/Armored_Car_Robbery">Armored Car Robbery </a></em>is a short but highly regarded film noir starring Charles McGraw, Adele Jergens and Steve Brodie. Not Rated, 68 mins., 1950. Closed Captions (CC) in English.</p>
LOCATION:Golden Gate Valley - Golden Gate Valley Meeting Room
CLASS:PUBLIC
TRANSP:TRANSPARENT
END:VEVENT
BEGIN:VALARM
TRIGGER:-PT1440M
ACTION:DISPLAY
DESCRIPTION:Event Reminder - Film: Armored Car Robbery
END:VALARM
END:VCALENDAR