BEGIN:VCALENDAR
VERSION:2.0
PRODID:SFPL Web Calendar
BEGIN:VEVENT
UID:66451@sfpl.org
DTSTAMP:20231214T010000Z
DTSTART:20231214T010000Z
DTEND:20231214T030000Z
SUMMARY:Film: Last Christmas
DESCRIPTION:<p>A dysfunctional young woman working as Santa's elf at a year-round Christmas store in London finds her life taking an unexpectedly optimistic turn after becoming romantically entangled with a handsome and mysterious stranger over the holiday season.</p>

<p>PG-13, 103mins., 2019. Closed captions (CC) in English.</p>

<p>Snacks provided.</p>
LOCATION:Park - Park Meeting Room
CLASS:PUBLIC
TRANSP:TRANSPARENT
END:VEVENT
BEGIN:VALARM
TRIGGER:-PT1440M
ACTION:DISPLAY
DESCRIPTION:Event Reminder - Film: Last Christmas
END:VALARM
END:VCALENDAR