BEGIN:VCALENDAR
VERSION:2.0
PRODID:SFPL Web Calendar
BEGIN:VEVENT
UID:66514@sfpl.org
DTSTAMP:20231008T210000Z
DTSTART:20231008T210000Z
DTEND:20231008T233000Z
SUMMARY:Film: San Francisco Cowboy
DESCRIPTION:<p>A 21-year-old cowboy goes to San Francisco to find his mother who abandoned him as a newborn baby and left him at the doorsteps of his priest father.</p>

<p>Director: Hassan Zee</p>

<p>Stars: Bunny Stewart, Jimmy Darling, Dano Jason</p>

<p>Rated: R,&nbsp;&nbsp;100 mins.,&nbsp;Closed captions (CC) in English.</p>
LOCATION:Main Library - Koret Auditorium
CLASS:PUBLIC
TRANSP:TRANSPARENT
END:VEVENT
BEGIN:VALARM
TRIGGER:-PT1440M
ACTION:DISPLAY
DESCRIPTION:Event Reminder - Film: San Francisco Cowboy
END:VALARM
END:VCALENDAR