BEGIN:VCALENDAR
VERSION:2.0
PRODID:SFPL Web Calendar
BEGIN:VEVENT
UID:66628@sfpl.org
DTSTAMP:20231012T010000Z
DTSTART:20231012T010000Z
DTEND:20231012T023000Z
SUMMARY:Presentation: Meet the Artists Behind the Glen Park Mural Tiled Stairway
DESCRIPTION:<p><em><strong>This program has been postponed to Wed., Nov. 8, 6 p.m.. Thank you for your interest in our programs.</strong></em></p>

<p>Learn from master mosaic artists, Aileen Barr and Colette Crutcher, about their process for creating some of San Francisco&rsquo;s most gorgeous tiled stairways, including the upcoming Glen Park Burnside&nbsp;Mural+ stairway at the end of Burnside off of Chenery. &nbsp;</p>

<p>Barr and Crutcher will share how they design and handcraft tiles that turn drab and forgettable stairways into beautiful and memorable ones. See a preview of our Burnside tiled stairway, a project of&nbsp;<a href="https://url.avanan.click/v2/___https:/gpmural.com/___.YXAzOnNmZHQyOmE6bzozMWYzZWU2NGY5MjYzMThkNmUwN2JhNzJlNjY5NjYzMjo2OmNmMmY6ODFkYzJkYWU1MjQ5MTBhMjg4YzRhMWNiZDkwYTBhNWE5MzcwYTU5OWZhYjJlZmE0Y2E0YmRhMWQxYjZjOGI5OTpoOlQ">Burnside&nbsp;Mural+</a>, fiscally sponsored by the SF Parks Alliance.&nbsp;</p>

<p>http://www.sfteamworks.com/</p>

<p>https://gpmural.com/</p>

<p>&nbsp;</p>

<p>&nbsp;</p>
LOCATION:Glen Park - Glen Park Meeting Room
CLASS:PUBLIC
TRANSP:TRANSPARENT
END:VEVENT
BEGIN:VALARM
TRIGGER:-PT1440M
ACTION:DISPLAY
DESCRIPTION:Event Reminder - Presentation: Meet the Artists Behind the Glen Park Mural Tiled Stairway
END:VALARM
END:VCALENDAR