BEGIN:VCALENDAR
VERSION:2.0
PRODID:SFPL Web Calendar
BEGIN:VEVENT
UID:67067@sfpl.org
DTSTAMP:20231005T230000Z
DTSTART:20231005T230000Z
DTEND:20231006T000000Z
SUMMARY:Workshop: Library Rangers with Creepy Crawlies
DESCRIPTION:<p>Learn about&nbsp;creepy crawly creatures and the special role they play in our environment on this spine-chilling adventure.&nbsp;We'll have an hour of fun as we read a story,&nbsp;do an activity&nbsp;and make a craft. Each month focuses on a different topic. For children ages 5&nbsp;and older.</p>

<p>For more information, contact the Candlestick Point team at&nbsp;<a href="mailto:candlestick@ports-ca.us">candlestick@ports-ca.us</a>&nbsp;or (415) 822-8033.</p>
LOCATION:Visitacion Valley - Visitacion Valley Meeting Room
CLASS:PUBLIC
TRANSP:TRANSPARENT
END:VEVENT
BEGIN:VALARM
TRIGGER:-PT1440M
ACTION:DISPLAY
DESCRIPTION:Event Reminder - Workshop: Library Rangers with Creepy Crawlies
END:VALARM
END:VCALENDAR