BEGIN:VCALENDAR
VERSION:2.0
PRODID:SFPL Web Calendar
BEGIN:VEVENT
UID:67819@sfpl.org
DTSTAMP:20231209T230000Z
DTSTART:20231209T230000Z
DTEND:20231210T010000Z
SUMMARY:Social: Filipino Holiday Snacks
DESCRIPTION:<p>Celebrate the holidays with a Filipino snack tasting of holiday treats.</p>
LOCATION:Park - Park Meeting Room
CLASS:PUBLIC
TRANSP:TRANSPARENT
END:VEVENT
BEGIN:VALARM
TRIGGER:-PT1440M
ACTION:DISPLAY
DESCRIPTION:Event Reminder - Social: Filipino Holiday Snacks
END:VALARM
END:VCALENDAR