BEGIN:VCALENDAR
VERSION:2.0
PRODID:SFPL Web Calendar
BEGIN:VEVENT
UID:68117@sfpl.org
DTSTAMP:20230727T210000Z
DTSTART:20230727T210000Z
DTEND:20230727T223000Z
SUMMARY:Workshop: YELL Presents Bookmaking
DESCRIPTION:<p>Create your own DIY book and write your story with our Youth Engaged in Library Leadership (YELL) interns. For ages 8&ndash;11. Space limited.</p>

<p>Our Youth Engaged in Library Leadership (YELL) interns have been working hard all summer to prepare a surprise community event. Come and support your local high school teens<strong>.</strong></p>
LOCATION:Main Library - Children's Creative Center - 2nd Fl
CLASS:PUBLIC
TRANSP:TRANSPARENT
END:VEVENT
BEGIN:VALARM
TRIGGER:-PT1440M
ACTION:DISPLAY
DESCRIPTION:Event Reminder - Workshop: YELL Presents Bookmaking
END:VALARM
END:VCALENDAR