BEGIN:VCALENDAR
VERSION:2.0
PRODID:SFPL Web Calendar
BEGIN:VEVENT
UID:69118@sfpl.org
DTSTAMP:20231005T173000Z
DTSTART:20231005T173000Z
DTEND:20231005T190000Z
SUMMARY:Presentation: Older Adult Deals
DESCRIPTION:<p>Join San Francisco Village staff as they share information about free and low costs events and opportunities around our vibrant (and expensive) city, including programs, resources, discounts and more for people over 60.&nbsp;We'll be crowd-sourcing ideas, too, so come with some of your favorite spots to share.</p>

<p>&nbsp;</p>

<p>San Francisco Village is a nonprofit membership organization that connects older San Franciscans to the community, resources and expertise they need to live independently in the places they call home.&nbsp;</p>

<p>&nbsp;</p>

<p>Connect:&nbsp;<a href="https://www.sfvillage.org/">SF Village website</a></p>
LOCATION:West Portal - West Portal Children's Area
CLASS:PUBLIC
TRANSP:TRANSPARENT
END:VEVENT
BEGIN:VALARM
TRIGGER:-PT1440M
ACTION:DISPLAY
DESCRIPTION:Event Reminder - Presentation: Older Adult Deals
END:VALARM
END:VCALENDAR