BEGIN:VCALENDAR
VERSION:2.0
PRODID:SFPL Web Calendar
BEGIN:VEVENT
UID:69621@sfpl.org
DTSTAMP:20240111T000000Z
DTSTART:20240111T000000Z
DTEND:20240111T020000Z
SUMMARY:Workshop: Biblio Bistro
DESCRIPTION:<p>Learn to make delicious food using our portable kitchen. This month we will cook recipes from Tanya Holland's <em>California Soul: Recipes From a Culinary Journey West</em>. For ages 12&ndash;18.</p>
LOCATION:Main Library - Mix: Maker -  2nd Fl
CLASS:PUBLIC
TRANSP:TRANSPARENT
END:VEVENT
BEGIN:VALARM
TRIGGER:-PT1440M
ACTION:DISPLAY
DESCRIPTION:Event Reminder - Workshop: Biblio Bistro
END:VALARM
END:VCALENDAR