BEGIN:VCALENDAR
VERSION:2.0
PRODID:SFPL Web Calendar
BEGIN:VEVENT
UID:69708@sfpl.org
DTSTAMP:20231216T220000Z
DTSTART:20231216T220000Z
DTEND:20231216T230000Z
SUMMARY:Workshop: Scrapbook Holiday Cards
DESCRIPTION:<p>Join us for an intergenerational crafting workshop where we will make holiday cards using scrapbooking materials. Feel free to bring pictures of loved ones or other mementos you'd like to use in your craft. All other supplies will be provided.</p>
LOCATION:Golden Gate Valley - Golden Gate Valley Meeting Room
CLASS:PUBLIC
TRANSP:TRANSPARENT
END:VEVENT
BEGIN:VALARM
TRIGGER:-PT1440M
ACTION:DISPLAY
DESCRIPTION:Event Reminder - Workshop: Scrapbook Holiday Cards
END:VALARM
END:VCALENDAR