BEGIN:VCALENDAR
VERSION:2.0
PRODID:SFPL Web Calendar
BEGIN:VEVENT
UID:70043@sfpl.org
DTSTAMP:20240106T220000Z
DTSTART:20240106T220000Z
DTEND:20240106T230000Z
SUMMARY:Workshop: Tie Dye
DESCRIPTION:<p>Transform a piece of cotton into a unique shibori-inspired&nbsp;resist-dyed artwork perfect for wall hanging. Integrating ancient techniques, history, science, math&nbsp;and folk art creates&nbsp;results that are always a surprise.&nbsp;For ages 12&nbsp;and older.</p>

<p>Space limited. Reservations required: (415) 355-2848.</p>

<p>&nbsp;</p>
LOCATION:Visitacion Valley - Visitacion Valley Meeting Room
CLASS:PUBLIC
TRANSP:TRANSPARENT
END:VEVENT
BEGIN:VALARM
TRIGGER:-PT1440M
ACTION:DISPLAY
DESCRIPTION:Event Reminder - Workshop: Tie Dye
END:VALARM
END:VCALENDAR