BEGIN:VCALENDAR
VERSION:2.0
PRODID:SFPL Web Calendar
BEGIN:VEVENT
UID:72080@sfpl.org
DTSTAMP:20231221T230000Z
DTSTART:20231221T230000Z
DTEND:20231222T003000Z
SUMMARY:Tutorial: Tablet/Smartphone Course for Older Adults 60+
DESCRIPTION:<p>This is a workshop presented by Self-Help for the Elderly. Please bring your own tablet or smartphone.</p>

<p>Device Type: iOS & Android</p>

<p>Topic: Settings, Internet Connection & Keyboard</p>

<p>&bull; How to connect to the internet?</p>

<p>&bull; Language and keyboard Settings</p>

<p>Space limited. Reservations required: (415) 355-2808</p>

<p>(Reservation start date: November 30th)</p>
LOCATION:Sunset - Sunset Program Room
CLASS:PUBLIC
TRANSP:TRANSPARENT
END:VEVENT
BEGIN:VALARM
TRIGGER:-PT1440M
ACTION:DISPLAY
DESCRIPTION:Event Reminder - Tutorial: Tablet/Smartphone Course for Older Adults 60+
END:VALARM
END:VCALENDAR